{
 "currentVersion": 11.5,
 "serviceDescription": "2010_Aerial_WROC_Grant_County",
 "serviceItemId": "58a8703775e849d1aec07457ea22c266",
 "name": "2010_Aerial_WROC_Grant_County",
 "description": "",
 "extent": {
  "xmin": 697993.078,
  "ymin": 398271.53,
  "xmax": 897254.578,
  "ymax": 657710.03,
  "spatialReference": {
   "wkid": 103421,
   "latestWkid": 8172
  }
 },
 "initialExtent": {
  "xmin": 697993.078,
  "ymin": 398271.53,
  "xmax": 897254.578,
  "ymax": 657710.03,
  "spatialReference": {
   "wkid": 103421,
   "latestWkid": 8172
  }
 },
 "fullExtent": {
  "xmin": 697993.078,
  "ymin": 398271.53,
  "xmax": 897254.578,
  "ymax": 657710.03,
  "spatialReference": {
   "wkid": 103421,
   "latestWkid": 8172
  }
 },
 "sortableFields": "",
 "bandCount": 3,
 "pixelType": "U8",
 "minValues": [
  14,
  30,
  6
 ],
 "maxValues": [
  255,
  255,
  255
 ],
 "meanValues": [
  165.53574660633,
  162.63022624434,
  147.53212669683
 ],
 "stdvValues": [
  64.129668118897,
  64.820514534163,
  74.57791885974
 ],
 "serviceProperties": "Center<\/MosaicMethod>First<\/MosaicOperator>true<\/SortAscending><\/LockImageID><\/TileOrderField>0<\/TileOrderBase>0.000000<\/AvgImageSpacingX>0.000000<\/AvgImageSpacingY>0.0<\/ViewPointX>0.0<\/ViewPointY>0.0<\/ViewPointDefShiftX>0.0<\/ViewPointDefShiftY>None<\/CompressionMethod>75<\/CompressionQuality>0.010000<\/CompressionTolerance>Bilinear<\/SamplingMethod><\/ImageServiceProperties><\/ImageServer>",
 "allowedFields": "",
 "hasMultidimensions": false,
 "pixelSizeX": 1.5,
 "pixelSizeY": 1.5,
 "meanPixelSize": 0.45720091440182886,
 "datasetFormat": "MrSID",
 "uncompressedSize": 68928139557,
 "blockWidth": 1024,
 "blockHeight": 128,
 "compressionType": "Wavelet (MG3)",
 "bandNames": [
  "Band_1",
  "Band_2",
  "Band_3"
 ],
 "allowCopy": true,
 "allowAnalysis": true,
 "itemAccess": false,
 "inspectionCapabilities": "",
 "noDataValue": 255,
 "noDataValues": [
  255,
  255,
  255
 ],
 "minPixelSize": 0,
 "maxPixelSize": 0,
 "copyrightText": "",
 "serviceDataType": "esriImageServiceDataTypeProcessed",
 "serviceSourceType": "esriImageServiceSourceTypeDataset",
 "objectIdField": "",
 "fields": [],
 "capabilities": "Image,Metadata,Mensuration",
 "defaultMosaicMethod": "Center",
 "allowedMosaicMethods": "",
 "sortField": "",
 "sortValue": null,
 "sortAscending": true,
 "mosaicOperator": "First",
 "defaultCompressionQuality": 75,
 "defaultResamplingMethod": "Bilinear",
 "maxImageHeight": 4100,
 "maxImageWidth": 15000,
 "allowRasterFunction": true,
 "rasterFunctionInfos": [
  {
   "name": "None",
   "description": "",
   "help": ""
  }
 ],
 "rasterTypeInfos": [
  {
   "name": "Raster Dataset",
   "description": "Supports all ArcGIS Raster Datasets",
   "help": ""
  }
 ],
 "mensurationCapabilities": "Basic",
 "hasHistograms": true,
 "hasColormap": false,
 "hasRasterAttributeTable": false,
 "minScale": 0,
 "maxScale": 0,
 "exportTilesAllowed": false,
 "supportsStatistics": false,
 "supportsAdvancedQueries": false,
 "editFieldsInfo": null,
 "ownershipBasedAccessControlForRasters": null,
 "allowComputeTiePoints": false,
 "useStandardizedQueries": true,
 "advancedQueryCapabilities": {
  "useStandardizedQueries": true,
  "supportsStatistics": false,
  "supportsOrderBy": false,
  "supportsDistinct": false,
  "supportsPagination": false
 },
 "spatialReference": {
  "wkid": 103421,
  "latestWkid": 8172
 }
}
