{ "currentVersion": 11.3, "serviceDescription": "
Ayres Associates provided Grant County, Wisconsin, with digital color orthoimagery services in 2015 as part of WROC. The aerial imagery was collected on April 11, 2015, using a Leica Geosystem ADS100 sensor mounted in a fixed-wing aircraft. Aerial imagery was collected to support 1.0 foot ground sample distance (GSD) orthoimagery to meet ASPRS Class II horizontal accuracy specifications at 1\u201d = 200\u2019 map scale. The horizontal accuracy meets or exceeds 4.0 feet RMSE using the National Standard for Spatial Data Accuracy (NSSDA) standards. Resultant orthoimagery was rectified to the new DEM from existing LiDAR created as part of the CDBG funded WROC program. Orthoimagery was delivered in PLSS section GeoTiff and MrSID tiles and a project wide MrSID mosaic. The orthoimagery was delivered according to a four section tile schematic. The total project area is 1180 square miles, plus a 500-ft buffer around the county boundary. Geographic Description: Grant County is located in southwestern Wisconsin in the Western Uplands area of the state. The county's northern and western boundaries are formed by the Wisconsin and Mississippi rivers, respectively. Urban areas include the cities of Platteville and Lancaster, though the county is primarily made up of agricultural land and forests. Supplemental Information: The Wisconsin Regional Orthophotography Consortium (WROC) is a multi-entity group led by regional planning commissions (RPCs) and WROC representatives from Ayres Associates. The goal of the consortium is to build and sustain a multi-participant program to acquire digital orthoimagery and elevation data throughout Wisconsin. Orthoimagery was collected for Grant County in 2015 to provide consistent deliverable products and accuracy standards for each of the participating entities.<\/SPAN><\/SPAN><\/P> <\/P><\/DIV><\/DIV><\/DIV>",
"name": "2015_Aerial_Grant_County",
"description": " Ayres Associates provided Grant County, Wisconsin, with digital color orthoimagery services in 2015 as part of WROC. The aerial imagery was collected on April 11, 2015, using a Leica Geosystem ADS100 sensor mounted in a fixed-wing aircraft. Aerial imagery was collected to support 1.0 foot ground sample distance (GSD) orthoimagery to meet ASPRS Class II horizontal accuracy specifications at 1\u201d = 200\u2019 map scale. The horizontal accuracy meets or exceeds 4.0 feet RMSE using the National Standard for Spatial Data Accuracy (NSSDA) standards. Resultant orthoimagery was rectified to the new DEM from existing LiDAR created as part of the CDBG funded WROC program. Orthoimagery was delivered in PLSS section GeoTiff and MrSID tiles and a project wide MrSID mosaic. The orthoimagery was delivered according to a four section tile schematic. The total project area is 1180 square miles, plus a 500-ft buffer around the county boundary. Geographic Description: Grant County is located in southwestern Wisconsin in the Western Uplands area of the state. The county's northern and western boundaries are formed by the Wisconsin and Mississippi rivers, respectively. Urban areas include the cities of Platteville and Lancaster, though the county is primarily made up of agricultural land and forests. Supplemental Information: The Wisconsin Regional Orthophotography Consortium (WROC) is a multi-entity group led by regional planning commissions (RPCs) and WROC representatives from Ayres Associates. The goal of the consortium is to build and sustain a multi-participant program to acquire digital orthoimagery and elevation data throughout Wisconsin. Orthoimagery was collected for Grant County in 2015 to provide consistent deliverable products and accuracy standards for each of the participating entities.<\/SPAN><\/SPAN><\/P> <\/P><\/DIV><\/DIV><\/DIV>",
"extent": {
"xmin": 698935.738,
"ymin": 399080.98400000005,
"xmax": 896479.738,
"ymax": 656912.984,
"spatialReference": {
"wkid": 103421,
"latestWkid": 8172
}
},
"initialExtent": {
"xmin": 698935.738,
"ymin": 399080.98400000005,
"xmax": 896479.738,
"ymax": 656912.984,
"spatialReference": {
"wkid": 103421,
"latestWkid": 8172
}
},
"fullExtent": {
"xmin": 698935.738,
"ymin": 399080.98400000005,
"xmax": 896479.738,
"ymax": 656912.984,
"spatialReference": {
"wkid": 103421,
"latestWkid": 8172
}
},
"sortableFields": "",
"bandCount": 5,
"pixelType": "U8",
"minValues": [
0,
0,
0,
0,
0
],
"maxValues": [
175,
165,
147,
185,
255
],
"meanValues": [
77.791383219955,
75.746679624231,
64.560090702948,
92.177194687399,
169.77874959508
],
"stdvValues": [
56.656740829633,
54.82513328044,
46.45040339021,
67.610740302452,
118.40521350715
],
"hasMultidimensions": false,
"pixelSizeX": 1,
"pixelSizeY": 1,
"meanPixelSize": 0.30480060960121924,
"datasetFormat": "MrSID",
"uncompressedSize": 254665823040,
"blockWidth": 1024,
"blockHeight": 128,
"compressionType": "Wavelet (MG4)",
"bandNames": [
"Band_1",
"Band_2",
"Band_3",
"Band_4",
"Band_5"
],
"allowCopy": true,
"allowAnalysis": true,
"itemAccess": false,
"inspectionCapabilities": "",
"noDataValue": 0,
"noDataValues": [
0,
0,
0,
0,
0
],
"minPixelSize": 0,
"maxPixelSize": 0,
"copyrightText": "",
"serviceDataType": "esriImageServiceDataTypeGeneric",
"serviceSourceType": "esriImageServiceSourceTypeDataset",
"objectIdField": "",
"fields": [],
"capabilities": "Image,Metadata,Mensuration",
"defaultMosaicMethod": "Center",
"allowedMosaicMethods": "",
"sortField": "",
"sortValue": null,
"sortAscending": true,
"mosaicOperator": "First",
"defaultCompressionQuality": 75,
"defaultResamplingMethod": "Bilinear",
"maxImageHeight": 4100,
"maxImageWidth": 15000,
"allowRasterFunction": true,
"rasterFunctionInfos": [
{
"name": "None",
"description": "",
"help": ""
}
],
"rasterTypeInfos": [
{
"name": "Raster Dataset",
"description": "Supports all ArcGIS Raster Datasets",
"help": ""
}
],
"mensurationCapabilities": "Basic",
"hasHistograms": true,
"hasColormap": false,
"hasRasterAttributeTable": false,
"minScale": 0,
"maxScale": 0,
"exportTilesAllowed": false,
"supportsStatistics": false,
"supportsAdvancedQueries": false,
"editFieldsInfo": null,
"ownershipBasedAccessControlForRasters": null,
"allowComputeTiePoints": false,
"useStandardizedQueries": true,
"advancedQueryCapabilities": {
"useStandardizedQueries": true,
"supportsStatistics": false,
"supportsOrderBy": false,
"supportsDistinct": false,
"supportsPagination": false
},
"spatialReference": {
"wkid": 103421,
"latestWkid": 8172
}
}