<?xml version="1.0" encoding="UTF-8" standalone="no"?>
<metadata xml:lang="en">
  <Esri>
    <CreaDate>20241009</CreaDate>
    <CreaTime>16082600</CreaTime>
    <ArcGISFormat>1.0</ArcGISFormat>
    <ArcGISstyle>FGDC CSDGM Metadata</ArcGISstyle>
    <SyncOnce>FALSE</SyncOnce>
    <DataProperties>
      <itemProps>
        <itemName Sync="TRUE">Grant_Co.sid</itemName>
        <imsContentType Sync="TRUE">002</imsContentType>
        <nativeExtBox>
          <westBL Sync="TRUE">698852.799685</westBL>
          <eastBL Sync="TRUE">897325.299685</eastBL>
          <southBL Sync="TRUE">398017.652348</southBL>
          <northBL Sync="TRUE">657457.652348</northBL>
          <exTypeCode Sync="TRUE">1</exTypeCode>
        </nativeExtBox>
      </itemProps>
      <coordRef>
        <type Sync="TRUE">Projected</type>
        <geogcsn Sync="TRUE">GCS_Unknown</geogcsn>
        <csUnits Sync="TRUE">Linear Unit: Foot_US (0.304801)</csUnits>
        <projcsn Sync="TRUE">Transverse_Mercator</projcsn>
        <peXml Sync="TRUE">&lt;ProjectedCoordinateSystem xsi:type='typens:ProjectedCoordinateSystem' xmlns:xsi='http://www.w3.org/2001/XMLSchema-instance' xmlns:xs='http://www.w3.org/2001/XMLSchema' xmlns:typens='http://www.esri.com/schemas/ArcGIS/10.6'&gt;&lt;WKT&gt;PROJCS[&amp;quot;Transverse_Mercator&amp;quot;,GEOGCS[&amp;quot;GCS_Unknown&amp;quot;,DATUM[&amp;quot;D_unknown&amp;quot;,SPHEROID[&amp;quot;Unknown&amp;quot;,6378378.880873758,298.2685330449605]],PRIMEM[&amp;quot;Greenwich&amp;quot;,0.0],UNIT[&amp;quot;&amp;quot;,0.0174532925199433]],PROJECTION[&amp;quot;Transverse_Mercator&amp;quot;],PARAMETER[&amp;quot;false_easting&amp;quot;,2608262.5],PARAMETER[&amp;quot;false_northing&amp;quot;,0.0],PARAMETER[&amp;quot;central_meridian&amp;quot;,-90.8],PARAMETER[&amp;quot;scale_factor&amp;quot;,0.999997],PARAMETER[&amp;quot;latitude_of_origin&amp;quot;,41.41111111111111],UNIT[&amp;quot;Foot_US&amp;quot;,0.3048006096012192]]&lt;/WKT&gt;&lt;XOrigin&gt;-15840900&lt;/XOrigin&gt;&lt;YOrigin&gt;-47863500&lt;/YOrigin&gt;&lt;XYScale&gt;137236666.75921705&lt;/XYScale&gt;&lt;ZOrigin&gt;-100000&lt;/ZOrigin&gt;&lt;ZScale&gt;10000&lt;/ZScale&gt;&lt;MOrigin&gt;-100000&lt;/MOrigin&gt;&lt;MScale&gt;10000&lt;/MScale&gt;&lt;XYTolerance&gt;0.0032808333333333331&lt;/XYTolerance&gt;&lt;ZTolerance&gt;0.001&lt;/ZTolerance&gt;&lt;MTolerance&gt;0.001&lt;/MTolerance&gt;&lt;HighPrecision&gt;true&lt;/HighPrecision&gt;&lt;/ProjectedCoordinateSystem&gt;</peXml>
      </coordRef>
      <RasterProperties>
        <General>
          <PixelDepth Sync="TRUE">8</PixelDepth>
          <HasColormap Sync="TRUE">FALSE</HasColormap>
          <CompressionType Sync="TRUE">Wavelet (MG2)</CompressionType>
          <NumBands Sync="TRUE">1</NumBands>
          <Format Sync="TRUE">MrSID</Format>
          <HasPyramids Sync="TRUE">TRUE</HasPyramids>
          <SourceType Sync="TRUE">continuous</SourceType>
          <PixelType Sync="TRUE">unsigned integer</PixelType>
          <NoDataValue Sync="TRUE">
					</NoDataValue>
        </General>
      </RasterProperties>
    </DataProperties>
    <SyncDate>20180420</SyncDate>
    <SyncTime>10234200</SyncTime>
    <ModDate>20180420</ModDate>
    <ModTime>10234200</ModTime>
  </Esri>
  <dataIdInfo>
    <envirDesc Sync="FALSE">Esri ArcGIS 10.6.0.8321</envirDesc>
    <dataLang>
      <languageCode Sync="TRUE" value="eng">
			</languageCode>
      <countryCode Sync="TRUE" value="USA">
			</countryCode>
    </dataLang>
    <idCitation>
      <resTitle Sync="TRUE">2005 Grant County Imagery</resTitle>
      <presForm>
        <PresFormCd Sync="TRUE" value="005">
				</PresFormCd>
      </presForm>
    </idCitation>
    <spatRpType>
      <SpatRepTypCd Sync="TRUE" value="002">
			</SpatRepTypCd>
    </spatRpType>
    <dataExt>
      <geoEle>
        <GeoBndBox esriExtentType="search">
          <exTypeCode Sync="TRUE">1</exTypeCode>
          <westBL Sync="TRUE">-97.934935</westBL>
          <eastBL Sync="TRUE">-97.125603</eastBL>
          <northBL Sync="TRUE">43.035858</northBL>
          <southBL Sync="TRUE">42.285715</southBL>
        </GeoBndBox>
      </geoEle>
    </dataExt>
    <idAbs/>
    <searchKeys>
      <keyword>2005</keyword>
      <keyword>Grant County</keyword>
      <keyword>WI</keyword>
    </searchKeys>
    <idPurp>Imagery from 2005</idPurp>
    <idCredit/>
    <resConst>
      <Consts>
        <useLimit/>
      </Consts>
    </resConst>
  </dataIdInfo>
  <mdLang>
    <languageCode Sync="TRUE" value="eng">
		</languageCode>
    <countryCode Sync="TRUE" value="USA">
		</countryCode>
  </mdLang>
  <mdChar>
    <CharSetCd Sync="TRUE" value="004">
		</CharSetCd>
  </mdChar>
  <distInfo>
    <distFormat>
      <formatName Sync="TRUE">Raster Dataset</formatName>
    </distFormat>
  </distInfo>
  <mdHrLv>
    <ScopeCd Sync="TRUE" value="005">
		</ScopeCd>
  </mdHrLv>
  <mdHrLvName Sync="TRUE">dataset</mdHrLvName>
  <refSysInfo>
    <RefSystem>
      <refSysID>
        <identCode Sync="TRUE" code="0">
				</identCode>
      </refSysID>
    </RefSystem>
  </refSysInfo>
  <spatRepInfo>
    <Georect>
      <cellGeo>
        <CellGeoCd Sync="TRUE" value="002">
				</CellGeoCd>
      </cellGeo>
      <numDims Sync="TRUE">2</numDims>
      <tranParaAv Sync="TRUE">1</tranParaAv>
      <chkPtAv Sync="TRUE">0</chkPtAv>
      <cornerPts>
        <pos Sync="TRUE">698852.799685 398017.652348</pos>
      </cornerPts>
      <cornerPts>
        <pos Sync="TRUE">698852.799685 657457.652348</pos>
      </cornerPts>
      <cornerPts>
        <pos Sync="TRUE">897325.299685 657457.652348</pos>
      </cornerPts>
      <cornerPts>
        <pos Sync="TRUE">897325.299685 398017.652348</pos>
      </cornerPts>
      <centerPt>
        <pos Sync="TRUE">798089.049685 527737.652348</pos>
      </centerPt>
      <axisDimension type="002">
        <dimSize Sync="TRUE">132315</dimSize>
        <dimResol>
          <value Sync="TRUE" uom="ftUS">1.500000</value>
        </dimResol>
      </axisDimension>
      <axisDimension type="001">
        <dimSize Sync="TRUE">172960</dimSize>
        <dimResol>
          <value Sync="TRUE" uom="ftUS">1.500000</value>
        </dimResol>
      </axisDimension>
      <ptInPixel>
        <PixOrientCd Sync="TRUE" value="001">
				</PixOrientCd>
      </ptInPixel>
    </Georect>
  </spatRepInfo>
  <contInfo>
    <ImgDesc>
      <contentTyp>
        <ContentTypCd Sync="TRUE" value="001">
				</ContentTypCd>
      </contentTyp>
      <covDim>
        <Band>
          <dimDescrp Sync="TRUE">Band_1</dimDescrp>
          <maxVal Sync="TRUE">255.000000</maxVal>
          <minVal Sync="TRUE">51.000000</minVal>
          <bitsPerVal Sync="TRUE">8</bitsPerVal>
          <valUnit>
            <UOM type="length">
						</UOM>
          </valUnit>
        </Band>
      </covDim>
    </ImgDesc>
  </contInfo>
  <mdDateSt Sync="TRUE">20180420</mdDateSt>
</metadata>
