{
 "currentVersion": 11.5,
 "serviceDescription": "RasterImagery/2005_Grant_County_Imagery",
 "serviceItemId": "83192eb84fa94567a7ba931069dd7e3f",
 "name": "RasterImagery/2005_Grant_County_Imagery",
 "description": "",
 "extent": {
  "xmin": 698852.799685,
  "ymin": 398017.652348,
  "xmax": 897325.299685,
  "ymax": 657457.652348,
  "spatialReference": {
   "wkid": 7607,
   "latestWkid": 7607
  }
 },
 "initialExtent": {
  "xmin": 698852.799685,
  "ymin": 398017.652348,
  "xmax": 897325.299685,
  "ymax": 657457.652348,
  "spatialReference": {
   "wkid": 7607,
   "latestWkid": 7607
  }
 },
 "fullExtent": {
  "xmin": 698852.799685,
  "ymin": 398017.652348,
  "xmax": 897325.299685,
  "ymax": 657457.652348,
  "spatialReference": {
   "wkid": 7607,
   "latestWkid": 7607
  }
 },
 "sortableFields": "",
 "bandCount": 1,
 "pixelType": "U8",
 "minValues": [
  51
 ],
 "maxValues": [
  255
 ],
 "meanValues": [
  168.62775582006
 ],
 "stdvValues": [
  55.170142588108
 ],
 "serviceProperties": "Center<\/MosaicMethod>First<\/MosaicOperator>true<\/SortAscending><\/LockImageID><\/TileOrderField>0<\/TileOrderBase>0.000000<\/AvgImageSpacingX>0.000000<\/AvgImageSpacingY>0.0<\/ViewPointX>0.0<\/ViewPointY>0.0<\/ViewPointDefShiftX>0.0<\/ViewPointDefShiftY>None<\/CompressionMethod>75<\/CompressionQuality>0.010000<\/CompressionTolerance>Bilinear<\/SamplingMethod><\/ImageServiceProperties><\/ImageServer>",
 "allowedFields": "",
 "hasMultidimensions": false,
 "pixelSizeX": 1.5,
 "pixelSizeY": 1.5,
 "meanPixelSize": 0.45720091440182886,
 "datasetFormat": "MrSID",
 "uncompressedSize": 22885202400,
 "blockWidth": 1024,
 "blockHeight": 128,
 "compressionType": "Wavelet (MG2)",
 "bandNames": [
  "Band_1"
 ],
 "allowCopy": true,
 "allowAnalysis": true,
 "itemAccess": false,
 "inspectionCapabilities": "",
 "noDataValue": 255,
 "noDataValues": [
  255
 ],
 "minPixelSize": 0,
 "maxPixelSize": 0,
 "copyrightText": "",
 "serviceDataType": "esriImageServiceDataTypeGeneric",
 "serviceSourceType": "esriImageServiceSourceTypeDataset",
 "objectIdField": "",
 "fields": [],
 "capabilities": "Image,Metadata,Mensuration",
 "defaultMosaicMethod": "Center",
 "allowedMosaicMethods": "",
 "sortField": "",
 "sortValue": null,
 "sortAscending": true,
 "mosaicOperator": "First",
 "defaultCompressionQuality": 75,
 "defaultResamplingMethod": "Bilinear",
 "maxImageHeight": 4100,
 "maxImageWidth": 15000,
 "allowRasterFunction": true,
 "rasterFunctionInfos": [
  {
   "name": "None",
   "description": "",
   "help": ""
  }
 ],
 "rasterTypeInfos": [
  {
   "name": "Raster Dataset",
   "description": "Supports all ArcGIS Raster Datasets",
   "help": ""
  }
 ],
 "mensurationCapabilities": "Basic",
 "hasHistograms": true,
 "hasColormap": false,
 "hasRasterAttributeTable": false,
 "minScale": 0,
 "maxScale": 0,
 "exportTilesAllowed": false,
 "supportsStatistics": false,
 "supportsAdvancedQueries": false,
 "editFieldsInfo": null,
 "ownershipBasedAccessControlForRasters": null,
 "allowComputeTiePoints": false,
 "useStandardizedQueries": true,
 "advancedQueryCapabilities": {
  "useStandardizedQueries": true,
  "supportsStatistics": false,
  "supportsOrderBy": false,
  "supportsDistinct": false,
  "supportsPagination": false
 },
 "spatialReference": {
  "wkid": 7607,
  "latestWkid": 7607
 }
}
