<?xml version="1.0" encoding="UTF-8" standalone="no"?>
<metadata xml:lang="en">
  <Esri>
    <CreaDate>20241009</CreaDate>
    <CreaTime>16121100</CreaTime>
    <ArcGISFormat>1.0</ArcGISFormat>
    <SyncOnce>FALSE</SyncOnce>
    <DataProperties>
      <itemProps>
        <itemName Sync="TRUE">Grant_Co_2010_LeafOff.sid</itemName>
        <imsContentType Sync="TRUE">002</imsContentType>
        <nativeExtBox>
          <westBL Sync="TRUE">697993.078000</westBL>
          <eastBL Sync="TRUE">897254.578000</eastBL>
          <southBL Sync="TRUE">398271.530000</southBL>
          <northBL Sync="TRUE">657710.030000</northBL>
          <exTypeCode Sync="TRUE">1</exTypeCode>
        </nativeExtBox>
      </itemProps>
      <coordRef>
        <type Sync="TRUE">Projected</type>
        <geogcsn Sync="TRUE">GCS_North_American_1983_HARN</geogcsn>
        <csUnits Sync="TRUE">Linear Unit: Foot_US (0.304801)</csUnits>
        <projcsn Sync="TRUE">NAD_1983_HARN_WISCRS_Grant_County_Feet</projcsn>
        <peXml Sync="TRUE">&lt;ProjectedCoordinateSystem xsi:type='typens:ProjectedCoordinateSystem' xmlns:xsi='http://www.w3.org/2001/XMLSchema-instance' xmlns:xs='http://www.w3.org/2001/XMLSchema' xmlns:typens='http://www.esri.com/schemas/ArcGIS/10.6'&gt;&lt;WKT&gt;PROJCS[&amp;quot;NAD_1983_HARN_WISCRS_Grant_County_Feet&amp;quot;,GEOGCS[&amp;quot;GCS_North_American_1983_HARN&amp;quot;,DATUM[&amp;quot;D_North_American_1983_HARN&amp;quot;,SPHEROID[&amp;quot;GRS_1980&amp;quot;,6378137.0,298.257222101]],PRIMEM[&amp;quot;Greenwich&amp;quot;,0.0],UNIT[&amp;quot;Degree&amp;quot;,0.0174532925199433]],PROJECTION[&amp;quot;Transverse_Mercator&amp;quot;],PARAMETER[&amp;quot;False_Easting&amp;quot;,794999.998],PARAMETER[&amp;quot;False_Northing&amp;quot;,0.033],PARAMETER[&amp;quot;Central_Meridian&amp;quot;,-90.8],PARAMETER[&amp;quot;Scale_Factor&amp;quot;,1.0000349452],PARAMETER[&amp;quot;Latitude_Of_Origin&amp;quot;,41.41111111111111],UNIT[&amp;quot;Foot_US&amp;quot;,0.3048006096012192],AUTHORITY[&amp;quot;Esri&amp;quot;,103421]]&lt;/WKT&gt;&lt;XOrigin&gt;-17654200&lt;/XOrigin&gt;&lt;YOrigin&gt;-47863500&lt;/YOrigin&gt;&lt;XYScale&gt;137236666.75921705&lt;/XYScale&gt;&lt;ZOrigin&gt;-100000&lt;/ZOrigin&gt;&lt;ZScale&gt;10000&lt;/ZScale&gt;&lt;MOrigin&gt;-100000&lt;/MOrigin&gt;&lt;MScale&gt;10000&lt;/MScale&gt;&lt;XYTolerance&gt;0.0032808333333333331&lt;/XYTolerance&gt;&lt;ZTolerance&gt;0.001&lt;/ZTolerance&gt;&lt;MTolerance&gt;0.001&lt;/MTolerance&gt;&lt;HighPrecision&gt;true&lt;/HighPrecision&gt;&lt;WKID&gt;103421&lt;/WKID&gt;&lt;LatestWKID&gt;103421&lt;/LatestWKID&gt;&lt;/ProjectedCoordinateSystem&gt;</peXml>
      </coordRef>
      <RasterProperties>
        <General>
          <PixelDepth Sync="TRUE">8</PixelDepth>
          <HasColormap Sync="TRUE">FALSE</HasColormap>
          <CompressionType Sync="TRUE">Wavelet (MG3)</CompressionType>
          <NumBands Sync="TRUE">3</NumBands>
          <Format Sync="TRUE">MrSID</Format>
          <HasPyramids Sync="TRUE">TRUE</HasPyramids>
          <SourceType Sync="TRUE">continuous</SourceType>
          <PixelType Sync="TRUE">unsigned integer</PixelType>
          <NoDataValue Sync="TRUE">0</NoDataValue>
        </General>
      </RasterProperties>
    </DataProperties>
    <SyncDate>20180420</SyncDate>
    <SyncTime>12114300</SyncTime>
    <ModDate>20180420</ModDate>
    <ModTime>12114300</ModTime>
  </Esri>
  <dataIdInfo>
    <envirDesc Sync="FALSE">Esri ArcGIS 10.6.0.8321</envirDesc>
    <dataLang>
      <languageCode Sync="TRUE" value="eng">
			</languageCode>
      <countryCode Sync="TRUE" value="USA">
			</countryCode>
    </dataLang>
    <idCitation>
      <resTitle Sync="TRUE">2010 Grant County Ortho Leaf Off</resTitle>
      <presForm>
        <PresFormCd Sync="TRUE" value="005">
				</PresFormCd>
      </presForm>
    </idCitation>
    <spatRpType>
      <SpatRepTypCd Sync="TRUE" value="002">
			</SpatRepTypCd>
    </spatRpType>
    <dataExt>
      <geoEle>
        <GeoBndBox esriExtentType="search">
          <exTypeCode Sync="TRUE">1</exTypeCode>
          <westBL Sync="TRUE">-91.163872</westBL>
          <eastBL Sync="TRUE">-90.416444</eastBL>
          <northBL Sync="TRUE">43.215797</northBL>
          <southBL Sync="TRUE">42.503366</southBL>
        </GeoBndBox>
      </geoEle>
    </dataExt>
    <idAbs/>
    <searchKeys>
      <keyword>2010</keyword>
      <keyword>WROC</keyword>
      <keyword>Imagery</keyword>
      <keyword>Grant County</keyword>
      <keyword>Leaf Off</keyword>
    </searchKeys>
    <idPurp>WROC Imagery</idPurp>
    <idCredit/>
    <resConst>
      <Consts>
        <useLimit/>
      </Consts>
    </resConst>
  </dataIdInfo>
  <mdLang>
    <languageCode Sync="TRUE" value="eng">
		</languageCode>
    <countryCode Sync="TRUE" value="USA">
		</countryCode>
  </mdLang>
  <mdChar>
    <CharSetCd Sync="TRUE" value="004">
		</CharSetCd>
  </mdChar>
  <distInfo>
    <distFormat>
      <formatName Sync="TRUE">Raster Dataset</formatName>
    </distFormat>
  </distInfo>
  <mdHrLv>
    <ScopeCd Sync="TRUE" value="005">
		</ScopeCd>
  </mdHrLv>
  <mdHrLvName Sync="TRUE">dataset</mdHrLvName>
  <refSysInfo>
    <RefSystem>
      <refSysID>
        <identCode Sync="TRUE" code="103421">
				</identCode>
        <idCodeSpace Sync="TRUE">Esri</idCodeSpace>
        <idVersion Sync="TRUE">9.2.0</idVersion>
      </refSysID>
    </RefSystem>
  </refSysInfo>
  <spatRepInfo>
    <Georect>
      <cellGeo>
        <CellGeoCd Sync="TRUE" value="002">
				</CellGeoCd>
      </cellGeo>
      <numDims Sync="TRUE">2</numDims>
      <tranParaAv Sync="TRUE">1</tranParaAv>
      <chkPtAv Sync="TRUE">0</chkPtAv>
      <cornerPts>
        <pos Sync="TRUE">697993.078000 398271.530000</pos>
      </cornerPts>
      <cornerPts>
        <pos Sync="TRUE">697993.078000 657710.030000</pos>
      </cornerPts>
      <cornerPts>
        <pos Sync="TRUE">897254.578000 657710.030000</pos>
      </cornerPts>
      <cornerPts>
        <pos Sync="TRUE">897254.578000 398271.530000</pos>
      </cornerPts>
      <centerPt>
        <pos Sync="TRUE">797623.828000 527990.780000</pos>
      </centerPt>
      <axisDimension type="002">
        <dimSize Sync="TRUE">132841</dimSize>
        <dimResol>
          <value Sync="TRUE" uom="ftUS">1.500000</value>
        </dimResol>
      </axisDimension>
      <axisDimension type="001">
        <dimSize Sync="TRUE">172959</dimSize>
        <dimResol>
          <value Sync="TRUE" uom="ftUS">1.500000</value>
        </dimResol>
      </axisDimension>
      <ptInPixel>
        <PixOrientCd Sync="TRUE" value="001">
				</PixOrientCd>
      </ptInPixel>
    </Georect>
  </spatRepInfo>
  <contInfo>
    <ImgDesc>
      <contentTyp>
        <ContentTypCd Sync="TRUE" value="001">
				</ContentTypCd>
      </contentTyp>
      <covDim>
        <Band>
          <dimDescrp Sync="TRUE">Band_1</dimDescrp>
          <maxVal Sync="TRUE">255.000000</maxVal>
          <minVal Sync="TRUE">14.000000</minVal>
          <bitsPerVal Sync="TRUE">8</bitsPerVal>
          <valUnit>
            <UOM type="length">
						</UOM>
          </valUnit>
        </Band>
        <Band>
          <dimDescrp Sync="TRUE">Band_2</dimDescrp>
          <maxVal Sync="TRUE">255.000000</maxVal>
          <minVal Sync="TRUE">30.000000</minVal>
          <bitsPerVal Sync="TRUE">8</bitsPerVal>
          <valUnit>
            <UOM type="length">
						</UOM>
          </valUnit>
        </Band>
        <Band>
          <dimDescrp Sync="TRUE">Band_3</dimDescrp>
          <maxVal Sync="TRUE">255.000000</maxVal>
          <minVal Sync="TRUE">6.000000</minVal>
          <bitsPerVal Sync="TRUE">8</bitsPerVal>
          <valUnit>
            <UOM type="length">
						</UOM>
          </valUnit>
        </Band>
      </covDim>
    </ImgDesc>
  </contInfo>
  <mdDateSt Sync="TRUE">20180420</mdDateSt>
</metadata>
