<?xml version="1.0" encoding="UTF-8" standalone="no"?>
<metadata xml:lang="en">
  <Esri>
    <CreaDate>20241009</CreaDate>
    <CreaTime>16173300</CreaTime>
    <ArcGISFormat>1.0</ArcGISFormat>
    <ArcGISstyle>FGDC CSDGM Metadata</ArcGISstyle>
    <SyncOnce>FALSE</SyncOnce>
    <DataProperties>
      <itemProps>
        <itemName Sync="TRUE">Grant_Co_2015.sid</itemName>
        <imsContentType Sync="TRUE">002</imsContentType>
        <nativeExtBox>
          <westBL Sync="TRUE">698935.738000</westBL>
          <eastBL Sync="TRUE">896479.738000</eastBL>
          <southBL Sync="TRUE">399080.984000</southBL>
          <northBL Sync="TRUE">656912.984000</northBL>
          <exTypeCode Sync="TRUE">1</exTypeCode>
        </nativeExtBox>
      </itemProps>
      <coordRef>
        <type Sync="TRUE">Projected</type>
        <geogcsn Sync="TRUE">GCS_North_American_1983_HARN</geogcsn>
        <csUnits Sync="TRUE">Linear Unit: Foot_US (0.304801)</csUnits>
        <projcsn Sync="TRUE">NAD_1983_HARN_WISCRS_Grant_County_Feet</projcsn>
        <peXml Sync="TRUE">&lt;ProjectedCoordinateSystem xsi:type='typens:ProjectedCoordinateSystem' xmlns:xsi='http://www.w3.org/2001/XMLSchema-instance' xmlns:xs='http://www.w3.org/2001/XMLSchema' xmlns:typens='http://www.esri.com/schemas/ArcGIS/10.7'&gt;&lt;WKT&gt;PROJCS[&amp;quot;NAD_1983_HARN_WISCRS_Grant_County_Feet&amp;quot;,GEOGCS[&amp;quot;GCS_North_American_1983_HARN&amp;quot;,DATUM[&amp;quot;D_North_American_1983_HARN&amp;quot;,SPHEROID[&amp;quot;GRS_1980&amp;quot;,6378137.0,298.257222101]],PRIMEM[&amp;quot;Greenwich&amp;quot;,0.0],UNIT[&amp;quot;Degree&amp;quot;,0.0174532925199433]],PROJECTION[&amp;quot;Transverse_Mercator&amp;quot;],PARAMETER[&amp;quot;False_Easting&amp;quot;,794999.998],PARAMETER[&amp;quot;False_Northing&amp;quot;,0.033],PARAMETER[&amp;quot;Central_Meridian&amp;quot;,-90.8],PARAMETER[&amp;quot;Scale_Factor&amp;quot;,1.0000349452],PARAMETER[&amp;quot;Latitude_Of_Origin&amp;quot;,41.41111111111111],UNIT[&amp;quot;Foot_US&amp;quot;,0.3048006096012192],AUTHORITY[&amp;quot;EPSG&amp;quot;,8172]]&lt;/WKT&gt;&lt;XOrigin&gt;-17654200&lt;/XOrigin&gt;&lt;YOrigin&gt;-47863500&lt;/YOrigin&gt;&lt;XYScale&gt;137236666.75921705&lt;/XYScale&gt;&lt;ZOrigin&gt;-100000&lt;/ZOrigin&gt;&lt;ZScale&gt;10000&lt;/ZScale&gt;&lt;MOrigin&gt;-100000&lt;/MOrigin&gt;&lt;MScale&gt;10000&lt;/MScale&gt;&lt;XYTolerance&gt;0.0032808333333333331&lt;/XYTolerance&gt;&lt;ZTolerance&gt;0.001&lt;/ZTolerance&gt;&lt;MTolerance&gt;0.001&lt;/MTolerance&gt;&lt;HighPrecision&gt;true&lt;/HighPrecision&gt;&lt;WKID&gt;103421&lt;/WKID&gt;&lt;LatestWKID&gt;8172&lt;/LatestWKID&gt;&lt;/ProjectedCoordinateSystem&gt;</peXml>
      </coordRef>
      <RasterProperties>
        <General>
          <PixelDepth Sync="TRUE">8</PixelDepth>
          <HasColormap Sync="TRUE">FALSE</HasColormap>
          <CompressionType Sync="TRUE">Wavelet (MG4)</CompressionType>
          <NumBands Sync="TRUE">5</NumBands>
          <Format Sync="TRUE">MrSID</Format>
          <HasPyramids Sync="TRUE">TRUE</HasPyramids>
          <SourceType Sync="TRUE">continuous</SourceType>
          <PixelType Sync="TRUE">unsigned integer</PixelType>
          <NoDataValue Sync="TRUE">0</NoDataValue>
        </General>
      </RasterProperties>
    </DataProperties>
    <SyncDate>20190716</SyncDate>
    <SyncTime>09015600</SyncTime>
    <ModDate>20231116</ModDate>
    <ModTime>16022800</ModTime>
    <scaleRange>
      <minScale>500000</minScale>
      <maxScale>5000</maxScale>
    </scaleRange>
    <ArcGISProfile>ItemDescription</ArcGISProfile>
  </Esri>
  <dataIdInfo>
    <envirDesc Sync="FALSE">Esri ArcGIS 10.7.0.10450</envirDesc>
    <dataLang>
      <languageCode Sync="TRUE" value="eng">
			</languageCode>
      <countryCode Sync="TRUE" value="USA">
			</countryCode>
    </dataLang>
    <idCitation>
      <resTitle Sync="TRUE">2015 Grant County Ortho</resTitle>
      <presForm>
        <PresFormCd Sync="TRUE" value="005">
				</PresFormCd>
      </presForm>
    </idCitation>
    <spatRpType>
      <SpatRepTypCd Sync="TRUE" value="002">
			</SpatRepTypCd>
    </spatRpType>
    <dataExt>
      <geoEle>
        <GeoBndBox esriExtentType="search">
          <exTypeCode Sync="TRUE">1</exTypeCode>
          <westBL Sync="TRUE">-91.160323</westBL>
          <eastBL Sync="TRUE">-90.419364</eastBL>
          <northBL Sync="TRUE">43.213610</northBL>
          <southBL Sync="TRUE">42.505597</southBL>
        </GeoBndBox>
      </geoEle>
    </dataExt>
    <idPurp>This project established digital, color orthoimagery for Grant County, Wisconsin as part of the Wisconsin Regional Orthophotography Consortium.</idPurp>
    <idAbs>&lt;div style='text-align:Left;'&gt;&lt;div&gt;&lt;div&gt;&lt;p style='margin:0 0 0 0;'&gt;&lt;span&gt;&lt;span&gt;Ayres Associates provided Grant County, Wisconsin, with digital color orthoimagery services in 2015 as part of WROC. The aerial imagery was collected on April 11, 2015, using a Leica Geosystem ADS100 sensor mounted in a fixed-wing aircraft. Aerial imagery was collected to support 1.0 foot ground sample distance (GSD) orthoimagery to meet ASPRS Class II horizontal accuracy specifications at 1” = 200’ map scale. The horizontal accuracy meets or exceeds 4.0 feet RMSE using the National Standard for Spatial Data Accuracy (NSSDA) standards. Resultant orthoimagery was rectified to the new DEM from existing LiDAR created as part of the CDBG funded WROC program. Orthoimagery was delivered in PLSS section GeoTiff and MrSID tiles and a project wide MrSID mosaic. The orthoimagery was delivered according to a four section tile schematic. The total project area is 1180 square miles, plus a 500-ft buffer around the county boundary. Geographic Description: Grant County is located in southwestern Wisconsin in the Western Uplands area of the state. The county's northern and western boundaries are formed by the Wisconsin and Mississippi rivers, respectively. Urban areas include the cities of Platteville and Lancaster, though the county is primarily made up of agricultural land and forests. Supplemental Information: The Wisconsin Regional Orthophotography Consortium (WROC) is a multi-entity group led by regional planning commissions (RPCs) and WROC representatives from Ayres Associates. The goal of the consortium is to build and sustain a multi-participant program to acquire digital orthoimagery and elevation data throughout Wisconsin. Orthoimagery was collected for Grant County in 2015 to provide consistent deliverable products and accuracy standards for each of the participating entities.&lt;/span&gt;&lt;/span&gt;&lt;/p&gt;&lt;p&gt;&lt;span /&gt;&lt;/p&gt;&lt;/div&gt;&lt;/div&gt;&lt;/div&gt;</idAbs>
    <searchKeys>
      <keyword>digital</keyword>
      <keyword>color</keyword>
      <keyword>orthoimagery</keyword>
      <keyword>12-inch</keyword>
    </searchKeys>
    <resConst>
      <Consts>
        <useLimit>&lt;div style='text-align:Left;'&gt;&lt;div&gt;&lt;div&gt;&lt;p style='margin:0 0 0 0;'&gt;&lt;span&gt;Not to be used for purposes other than those strictly outlined in the 2015 WROC Grant County Orthophotography Initiative.&lt;/span&gt;&lt;/p&gt;&lt;/div&gt;&lt;/div&gt;&lt;/div&gt;</useLimit>
      </Consts>
    </resConst>
    <idCredit/>
  </dataIdInfo>
  <mdLang>
    <languageCode Sync="TRUE" value="eng">
		</languageCode>
    <countryCode Sync="TRUE" value="USA">
		</countryCode>
  </mdLang>
  <mdChar>
    <CharSetCd Sync="TRUE" value="004">
		</CharSetCd>
  </mdChar>
  <distInfo>
    <distFormat>
      <formatName Sync="TRUE">Raster Dataset</formatName>
    </distFormat>
  </distInfo>
  <mdHrLv>
    <ScopeCd Sync="TRUE" value="005">
		</ScopeCd>
  </mdHrLv>
  <mdHrLvName Sync="TRUE">dataset</mdHrLvName>
  <refSysInfo>
    <RefSystem>
      <refSysID>
        <identCode Sync="TRUE" code="8172">
				</identCode>
        <idCodeSpace Sync="TRUE">EPSG</idCodeSpace>
        <idVersion Sync="TRUE">9.1(10.7.0)</idVersion>
      </refSysID>
    </RefSystem>
  </refSysInfo>
  <spatRepInfo>
    <Georect>
      <cellGeo>
        <CellGeoCd Sync="TRUE" value="002">
				</CellGeoCd>
      </cellGeo>
      <numDims Sync="TRUE">2</numDims>
      <tranParaAv Sync="TRUE">1</tranParaAv>
      <chkPtAv Sync="TRUE">0</chkPtAv>
      <cornerPts>
        <pos Sync="TRUE">698935.738000 399080.984000</pos>
      </cornerPts>
      <cornerPts>
        <pos Sync="TRUE">698935.738000 656912.984000</pos>
      </cornerPts>
      <cornerPts>
        <pos Sync="TRUE">896479.738000 656912.984000</pos>
      </cornerPts>
      <cornerPts>
        <pos Sync="TRUE">896479.738000 399080.984000</pos>
      </cornerPts>
      <centerPt>
        <pos Sync="TRUE">797707.738000 527996.984000</pos>
      </centerPt>
      <axisDimension type="002">
        <dimSize Sync="TRUE">197544</dimSize>
        <dimResol>
          <value Sync="TRUE" uom="ftUS">1.000000</value>
        </dimResol>
      </axisDimension>
      <axisDimension type="001">
        <dimSize Sync="TRUE">257832</dimSize>
        <dimResol>
          <value Sync="TRUE" uom="ftUS">1.000000</value>
        </dimResol>
      </axisDimension>
      <ptInPixel>
        <PixOrientCd Sync="TRUE" value="001">
				</PixOrientCd>
      </ptInPixel>
    </Georect>
  </spatRepInfo>
  <contInfo>
    <ImgDesc>
      <contentTyp>
        <ContentTypCd Sync="TRUE" value="001">
				</ContentTypCd>
      </contentTyp>
      <covDim>
        <Band>
          <dimDescrp Sync="TRUE">Band_1</dimDescrp>
          <maxVal Sync="TRUE">175.000000</maxVal>
          <minVal Sync="TRUE">0.000000</minVal>
          <bitsPerVal Sync="TRUE">8</bitsPerVal>
          <valUnit>
            <UOM type="length">
						</UOM>
          </valUnit>
        </Band>
        <Band>
          <dimDescrp Sync="TRUE">Band_2</dimDescrp>
          <maxVal Sync="TRUE">165.000000</maxVal>
          <minVal Sync="TRUE">0.000000</minVal>
          <bitsPerVal Sync="TRUE">8</bitsPerVal>
          <valUnit>
            <UOM type="length">
						</UOM>
          </valUnit>
        </Band>
        <Band>
          <dimDescrp Sync="TRUE">Band_3</dimDescrp>
          <maxVal Sync="TRUE">147.000000</maxVal>
          <minVal Sync="TRUE">0.000000</minVal>
          <bitsPerVal Sync="TRUE">8</bitsPerVal>
          <valUnit>
            <UOM type="length">
						</UOM>
          </valUnit>
        </Band>
        <Band>
          <dimDescrp Sync="TRUE">Band_4</dimDescrp>
          <maxVal Sync="TRUE">185.000000</maxVal>
          <minVal Sync="TRUE">0.000000</minVal>
          <bitsPerVal Sync="TRUE">8</bitsPerVal>
          <valUnit>
            <UOM type="length">
						</UOM>
          </valUnit>
        </Band>
        <Band>
          <dimDescrp Sync="TRUE">Band_5</dimDescrp>
          <maxVal Sync="TRUE">255.000000</maxVal>
          <minVal Sync="TRUE">0.000000</minVal>
          <bitsPerVal Sync="TRUE">8</bitsPerVal>
          <valUnit>
            <UOM type="length">
						</UOM>
          </valUnit>
        </Band>
      </covDim>
    </ImgDesc>
  </contInfo>
  <mdDateSt Sync="TRUE">20231116</mdDateSt>
</metadata>
