<?xml version="1.0" encoding="UTF-8" standalone="no"?>
<metadata xml:lang="en">
  <Esri>
    <CreaDate>20260319</CreaDate>
    <CreaTime>17295700</CreaTime>
    <ArcGISFormat>1.0</ArcGISFormat>
    <SyncOnce>FALSE</SyncOnce>
    <DataProperties>
      <itemProps>
        <itemName Sync="TRUE">GrantCo_DEM.tif</itemName>
        <imsContentType Sync="TRUE">002</imsContentType>
        <nativeExtBox>
          <westBL Sync="TRUE">696662.000000</westBL>
          <eastBL Sync="TRUE">899366.000000</eastBL>
          <southBL Sync="TRUE">396128.000000</southBL>
          <northBL Sync="TRUE">657152.000000</northBL>
          <exTypeCode Sync="TRUE">1</exTypeCode>
        </nativeExtBox>
      </itemProps>
      <coordRef>
        <type Sync="TRUE">Projected</type>
        <geogcsn Sync="TRUE">GCS_NAD_1983_2011</geogcsn>
        <csUnits Sync="TRUE">Linear Unit: Foot_US (0.304801)</csUnits>
        <projcsn Sync="TRUE">NAD_1983_2011_WISCRS_Grant_Feet</projcsn>
        <peXml Sync="TRUE">&lt;ProjectedCoordinateSystem xsi:type='typens:ProjectedCoordinateSystem' xmlns:xsi='http://www.w3.org/2001/XMLSchema-instance' xmlns:xs='http://www.w3.org/2001/XMLSchema' xmlns:typens='http://www.esri.com/schemas/ArcGIS/3.5.0'&gt;&lt;WKT&gt;PROJCS[&amp;quot;NAD_1983_2011_WISCRS_Grant_Feet&amp;quot;,GEOGCS[&amp;quot;GCS_NAD_1983_2011&amp;quot;,DATUM[&amp;quot;D_NAD_1983_2011&amp;quot;,SPHEROID[&amp;quot;GRS_1980&amp;quot;,6378137.0,298.257222101]],PRIMEM[&amp;quot;Greenwich&amp;quot;,0.0],UNIT[&amp;quot;Degree&amp;quot;,0.0174532925199433]],PROJECTION[&amp;quot;Transverse_Mercator&amp;quot;],PARAMETER[&amp;quot;False_Easting&amp;quot;,794999.998],PARAMETER[&amp;quot;False_Northing&amp;quot;,0.033],PARAMETER[&amp;quot;Central_Meridian&amp;quot;,-90.8],PARAMETER[&amp;quot;Scale_Factor&amp;quot;,1.0000349452],PARAMETER[&amp;quot;Latitude_Of_Origin&amp;quot;,41.41111111111111],UNIT[&amp;quot;Foot_US&amp;quot;,0.3048006096012192],AUTHORITY[&amp;quot;EPSG&amp;quot;,7607]],VERTCS[&amp;quot;NAVD88_height_(ftUS)&amp;quot;,VDATUM[&amp;quot;North_American_Vertical_Datum_1988&amp;quot;],PARAMETER[&amp;quot;Vertical_Shift&amp;quot;,0.0],PARAMETER[&amp;quot;Direction&amp;quot;,1.0],UNIT[&amp;quot;Foot_US&amp;quot;,0.3048006096012192],AUTHORITY[&amp;quot;EPSG&amp;quot;,6360]]&lt;/WKT&gt;&lt;XOrigin&gt;-17654200&lt;/XOrigin&gt;&lt;YOrigin&gt;-47863500&lt;/YOrigin&gt;&lt;XYScale&gt;137236666.75921705&lt;/XYScale&gt;&lt;ZOrigin&gt;-100000&lt;/ZOrigin&gt;&lt;ZScale&gt;10000&lt;/ZScale&gt;&lt;MOrigin&gt;-100000&lt;/MOrigin&gt;&lt;MScale&gt;10000&lt;/MScale&gt;&lt;XYTolerance&gt;0.0032808333333333331&lt;/XYTolerance&gt;&lt;ZTolerance&gt;0.001&lt;/ZTolerance&gt;&lt;MTolerance&gt;0.001&lt;/MTolerance&gt;&lt;HighPrecision&gt;true&lt;/HighPrecision&gt;&lt;WKID&gt;7607&lt;/WKID&gt;&lt;LatestWKID&gt;7607&lt;/LatestWKID&gt;&lt;VCSWKID&gt;105703&lt;/VCSWKID&gt;&lt;LatestVCSWKID&gt;6360&lt;/LatestVCSWKID&gt;&lt;/ProjectedCoordinateSystem&gt;</peXml>
      </coordRef>
      <RasterProperties>
        <General>
          <PixelDepth Sync="TRUE">32</PixelDepth>
          <HasColormap Sync="TRUE">FALSE</HasColormap>
          <CompressionType Sync="TRUE">None</CompressionType>
          <NumBands Sync="TRUE">1</NumBands>
          <Format Sync="TRUE">TIFF</Format>
          <HasPyramids Sync="TRUE">TRUE</HasPyramids>
          <SourceType Sync="TRUE">continuous</SourceType>
          <PixelType Sync="TRUE">floating point</PixelType>
          <NoDataValue Sync="TRUE">-32767</NoDataValue>
        </General>
      </RasterProperties>
    </DataProperties>
    <SyncDate>20260319</SyncDate>
    <SyncTime>17295700</SyncTime>
    <ModDate>20260319</ModDate>
    <ModTime>17295700</ModTime>
  </Esri>
  <mdChar>
    <CharSetCd value="004">
		</CharSetCd>
  </mdChar>
  <mdHrLv>
    <ScopeCd value="005">
		</ScopeCd>
  </mdHrLv>
  <mdContact>
    <rpOrgName>Ayres Associates</rpOrgName>
    <rpCntInfo>
      <cntPhone>
        <voiceNum>(608) 443-1200</voiceNum>
      </cntPhone>
      <cntAddress addressType="both">
        <delPoint>5201 E Terrace Drive, Suite 200</delPoint>
        <city>Madison</city>
        <adminArea>Wisconsin</adminArea>
        <postCode>53718</postCode>
        <country>U.S.A.</country>
      </cntAddress>
    </rpCntInfo>
    <role>
      <RoleCd value="007">
			</RoleCd>
    </role>
  </mdContact>
  <mdDateSt>20200619</mdDateSt>
  <mdStanName>ArcGIS Metadata</mdStanName>
  <mdStanVer>1.0</mdStanVer>
  <dataIdInfo>
    <idCitation>
      <resTitle>2020 LiDAR DEM</resTitle>
      <date>
        <pubDate>2020-06-19</pubDate>
      </date>
      <citRespParty>
        <rpOrgName>Ayres Associates</rpOrgName>
        <role>
          <RoleCd value="006">
					</RoleCd>
        </role>
      </citRespParty>
      <presForm>
        <PresFormCd value="005">
				</PresFormCd>
      </presForm>
      <presForm>
        <fgdcGeoform>raster digital data</fgdcGeoform>
      </presForm>
    </idCitation>
    <idAbs>The Grant County lidar project area covers approximately 1250 square miles which includes a 100 meter buffer around the county boundary. The lidar data was acquired at a nominal point spacing (NPS) of 0.7 meters and a aggregate nominal point density (ANPD) of 2.0. Project specifications are based on Grant County requirements and on the U.S. Geological Survey National Geospatial Program LiDAR Base Specification, Version 2.1. The data was developed based on a horizontal projection/datum of NAD83(2011) / WISCRS Grant (ftUS) (EPSG Code: 7607), and vertical datum of NAVD88 - Geoid12B (Feet). LiDAR data was acquired using two Riegl VQ 1560 sensors with serial numbers SN754 and SN1264 from April 19, 2020 to April 30, 2020 in 5 total lifts. Acquisition occurred with leaves absent from deciduous trees, when no snow was present on the ground, and with rivers at or below normal levels.</idAbs>
    <idPurp>This data, along with its derivatives, is the result of a countywide elevation mapping with cooperative partnerships from Grant County, Wisconsin DOA, and the USGS 3DEP program. This data was produced from lidar data collected in April 2020, which was processed and delivered in 2021.</idPurp>
    <idStatus>
      <ProgCd value="001">
			</ProgCd>
    </idStatus>
    <resMaint>
      <maintFreq>
        <MaintFreqCd value="011">
				</MaintFreqCd>
      </maintFreq>
    </resMaint>
    <placeKeys>
      <keyword>Wisconsin</keyword>
      <keyword>Grant County</keyword>
      <keyword>Grant County</keyword>
    </placeKeys>
    <themeKeys>
      <keyword>Model</keyword>
      <keyword>Raster</keyword>
      <keyword>DEM</keyword>
      <keyword>Remote Sensing</keyword>
      <keyword>Elevation</keyword>
      <keyword>Lidar</keyword>
    </themeKeys>
    <searchKeys>
      <keyword>Model</keyword>
      <keyword>Raster</keyword>
      <keyword>DEM</keyword>
      <keyword>Remote Sensing</keyword>
      <keyword>Elevation</keyword>
      <keyword>Lidar</keyword>
      <keyword>Wisconsin</keyword>
      <keyword>Grant County</keyword>
      <keyword>Grant County</keyword>
    </searchKeys>
    <resConst>
      <Consts>
        <useLimit>None. However, users should be aware that temporal changes may have occurred since this dataset was collected and that some parts of these data may no longer represent actual surface conditions. Users should not use these data for critical applications without a full awareness of its limitations. Acknowledgement of the U.S. Geological Survey would be appreciated for products derived from these data.</useLimit>
      </Consts>
    </resConst>
    <resConst>
      <LegConsts>
        <accessConsts>
          <RestrictCd value="008">
					</RestrictCd>
        </accessConsts>
        <othConsts>No restrictions apply to these data.</othConsts>
      </LegConsts>
    </resConst>
    <spatRpType>
      <SpatRepTypCd value="002">
			</SpatRepTypCd>
    </spatRpType>
    <tpCat>
      <TopicCatCd value="006">
			</TopicCatCd>
    </tpCat>
    <dataExt>
      <geoEle>
        <GeoBndBox>
          <exTypeCode>true</exTypeCode>
          <westBL>-91.168849</westBL>
          <eastBL>-90.408537</eastBL>
          <northBL>43.214261</northBL>
          <southBL>42.497460</southBL>
        </GeoBndBox>
      </geoEle>
    </dataExt>
    <dataExt>
      <exDesc>ground conditions</exDesc>
      <tempEle>
        <TempExtent>
          <exTemp>
            <TM_Period>
              <tmBegin>2020-04-19</tmBegin>
              <tmEnd>2020-04-30</tmEnd>
            </TM_Period>
          </exTemp>
        </TempExtent>
      </tempEle>
      <geoEle>
			</geoEle>
    </dataExt>
    <suppInfo>
Raster File Type = TIFF Bit Depth/Pixel Type = 32-bit float Raster Cell Size = 2 foot Interpolation or Resampling Technique = Triangulated Irregular Network Required Vertical Accuracy = 19.6 cm NVA
</suppInfo>
    <envirDesc Sync="FALSE">Esri ArcGIS 13.5.5.57366</envirDesc>
    <dataLang>
      <languageCode Sync="TRUE" value="eng">
			</languageCode>
      <countryCode Sync="TRUE" value="USA">
			</countryCode>
    </dataLang>
    <dataExt>
      <geoEle>
        <GeoBndBox esriExtentType="search">
          <exTypeCode Sync="TRUE">1</exTypeCode>
          <westBL Sync="TRUE">-91.168856</westBL>
          <eastBL Sync="TRUE">-90.408534</eastBL>
          <northBL Sync="TRUE">43.214266</northBL>
          <southBL Sync="TRUE">42.497459</southBL>
        </GeoBndBox>
      </geoEle>
    </dataExt>
    <idCredit/>
  </dataIdInfo>
  <mdMaint>
    <maintFreq>
      <MaintFreqCd value="012">
			</MaintFreqCd>
    </maintFreq>
    <maintNote>Last metadata review date: 2020-06-19</maintNote>
  </mdMaint>
  <mdConst>
    <SecConsts>
      <class>
        <ClasscationCd value="unclassified.">
				</ClasscationCd>
      </class>
      <classSys>None.</classSys>
      <handDesc>None.</handDesc>
    </SecConsts>
  </mdConst>
  <dqInfo>
    <dqScope>
      <scpLvl>
        <ScopeCd value="005">
				</ScopeCd>
      </scpLvl>
    </dqScope>
    <report type="DQConcConsis">
      <measDesc>Data covers the entire area specified for this project.</measDesc>
    </report>
    <report type="DQCompOm">
      <measDesc>Datasets contain complete coverage of tiles. No points have been removed or excluded. A visual qualitative assessment was performed to ensure data completeness. There are no void areas or missing data. The raw point cloud is of good quality and data passes Non-Vegetated Vertical Accuracy specifications.</measDesc>
    </report>
    <report dimension="vertical" type="DQAbsExtPosAcc">
      <measDesc>The project specifications require the accuracy (ACCz) of the derived DEM be calculated and reported in two ways: 1. The required NVA is: 19.6 cm at a 95% confidence level, derived according to NSSDA, i.e., based on RMSE of 10 cm in the “bare earth” and "urban" land cover classes. This is a required accuracy. The NVA was tested with 70 checkpoints located in bare earth and urban (non-vegetated) areas. 2. Vegetated Vertical Accuracy (VVA): VVA shall be reported for "brushlands/low trees" and "tall weeds/crops" land cover classes. The target VVA is: 29.4 cm at the 95th percentile, derived according to ASPRS Guidelines, Vertical Accuracy Reporting for Lidar Data, i.e., based on the 95th percentile error in all vegetated land cover classes combined. This is a target accuracy. The VVA was tested with 55 checkpoints located in tall weeds/crops and brushlands/low trees (vegetated) areas. The checkpoints were distributed throughout the project area and were surveyed using GPS techniques. See survey report for additional survey methodologies. AccuracyZ has been tested to meet 19.6 cm or better Non-Vegetated Vertical Accuracy at 95% confidence level using RMSE(z) x 1.9600 as defined by the National Standards for Spatial Data Accuracy (NSSDA); assessed and reported using National Digital Elevation Program (NDEP)/ASRPS Guidelines.</measDesc>
      <evalMethDesc>Tested 0.052 meters NVA at a 95% confidence level using RMSE(z) x 1.9600 as defined by the National Standards for Spatial Data Accuracy (NSSDA). The NVA of the DEM was calculated using 70 independent checkpoints located in the Bare Earth and Urban land cover categories.</evalMethDesc>
      <measResult>
        <QuanResult>
          <quanVal>0.052</quanVal>
        </QuanResult>
      </measResult>
    </report>
    <report dimension="vertical" type="DQAbsExtPosAcc">
      <measDesc>The project specifications require the accuracy (ACCz) of the derived DEM be calculated and reported in two ways: 1. The required NVA is: 19.6 cm at a 95% confidence level, derived according to NSSDA, i.e., based on RMSE of 10 cm in the “bare earth” and "urban" land cover classes. This is a required accuracy. The NVA was tested with 70 checkpoints located in bare earth and urban (non-vegetated) areas. 2. Vegetated Vertical Accuracy (VVA): VVA shall be reported for "brushlands/low trees" and "tall weeds/crops" land cover classes. The target VVA is: 29.4 cm at the 95th percentile, derived according to ASPRS Guidelines, Vertical Accuracy Reporting for Lidar Data, i.e., based on the 95th percentile error in all vegetated land cover classes combined. This is a target accuracy. The VVA was tested with 55 checkpoints located in tall weeds/crops and brushlands/low trees (vegetated) areas. The checkpoints were distributed throughout the project area and were surveyed using GPS techniques. See survey report for additional survey methodologies. AccuracyZ has been tested to meet 19.6 cm or better Non-Vegetated Vertical Accuracy at 95% confidence level using RMSE(z) x 1.9600 as defined by the National Standards for Spatial Data Accuracy (NSSDA); assessed and reported using National Digital Elevation Program (NDEP)/ASRPS Guidelines.</measDesc>
      <evalMethDesc>Tested 0.136 meters VVA was calculated using 55 checkpoints located in the Brushlands and Low Trees and Tall Weeds and Crops land cover categories at the 95th percentile, derived according to ASPRS Guidelines, Vertical Accuracy Reporting for Lidar Data. Tested against the DEM.</evalMethDesc>
      <measResult>
        <QuanResult>
          <quanVal>0.136</quanVal>
        </QuanResult>
      </measResult>
    </report>
    <dataLineage>
      <prcStep>
        <stepDesc>LiDAR processing utilizes several software packages, including GeoCue and the TerraSolid suite of processing components. The GeoCue software is a database management system for housing the LiDAR dataset (usually multiple gigabytes in size). GeoCue incorporates a thorough checklist of processing steps and quality assurance/quality control (QA/QC) procedures that assist in the LiDAR workflow. The TerraSolid software suite is used to automate the initial classification of the LiDAR point cloud based on a set of predetermined parameters. Lidar technicians refer to ground cover research (natural and cultural features) within the project area and determine algorithms most suitable for the initial automated LiDAR classification. (Some algorithms/filters recognize the ground in forests well, while others have greater capability in urban areas). During this process each point is given an initial classification (e.g., as ground, vegetation, or noise) based on the point's coordinates and the relation to its neighbors. Classifications to be assigned include all those outlined by ASPRS standards. The initial classifications produce a coarse and inexact dataset, but offer an adequate starting point for the subsequent manual classification procedure. During this step, "overlap" points are automatically classified (those originating from neighboring flightlines) using information gathered from the ABGPS and IMU data. Any duplicate points existing from adjacent flightlines are removed during this process. Hydrographic breaklines are collected using LiDARgrammetry to ensure hydroflattened water surfaces. This process involves manipulating the LiDAR data's intensity information to create a metrically sound stereo environment. From this generated "imagery", breaklines are photogrammetrically compiled. Breakline polygons are created to represent open water bodies. The LiDAR points that fall within these areas are classified as "water." All hydrographic breaklines include a 3.125 foot buffer, with the Class 2 (bare earth) points being re-classified as Class 20 (ignored ground). TerraSolid is further used for the subsequent manual classification of the LiDAR points allowing technicians to view the point cloud in a number of ways to ensure accuracy and consistency of points and uniformity of point coverage. The TIN was processed to create a GRID or digital elevation model (DEM) with 2 foot pixels.</stepDesc>
        <stepDateTm>2020-06-19</stepDateTm>
      </prcStep>
    </dataLineage>
  </dqInfo>
  <spatRepInfo>
    <Georect>
      <numDims>2</numDims>
      <axisDimension type="001">
        <dimSize>2250</dimSize>
        <dimResol>
          <value Sync="TRUE" uom="ftUS">2.000000</value>
        </dimResol>
      </axisDimension>
      <axisDimension type="002">
        <dimSize>2250</dimSize>
        <dimResol>
          <value Sync="TRUE" uom="ftUS">2.000000</value>
        </dimResol>
      </axisDimension>
      <cellGeo>
        <CellGeoCd Sync="TRUE" value="002">
				</CellGeoCd>
      </cellGeo>
      <tranParaAv Sync="TRUE">1</tranParaAv>
      <chkPtAv Sync="TRUE">0</chkPtAv>
      <cornerPts>
        <pos Sync="TRUE">696662.000000 396128.000000</pos>
      </cornerPts>
      <cornerPts>
        <pos Sync="TRUE">696662.000000 657152.000000</pos>
      </cornerPts>
      <cornerPts>
        <pos Sync="TRUE">899366.000000 657152.000000</pos>
      </cornerPts>
      <cornerPts>
        <pos Sync="TRUE">899366.000000 396128.000000</pos>
      </cornerPts>
      <centerPt>
        <pos Sync="TRUE">798014.000000 526640.000000</pos>
      </centerPt>
      <ptInPixel>
        <PixOrientCd Sync="TRUE" value="001">
				</PixOrientCd>
      </ptInPixel>
    </Georect>
  </spatRepInfo>
  <mdExtInfo>
    <extOnRes>
      <linkage>withheld</linkage>
      <orName>None.</orName>
    </extOnRes>
  </mdExtInfo>
  <mdLang>
    <languageCode Sync="TRUE" value="eng">
		</languageCode>
    <countryCode Sync="TRUE" value="USA">
		</countryCode>
  </mdLang>
  <distInfo>
    <distFormat>
      <formatName Sync="TRUE">Raster Dataset</formatName>
    </distFormat>
  </distInfo>
  <mdHrLvName Sync="TRUE">dataset</mdHrLvName>
  <refSysInfo>
    <RefSystem>
      <refSysID>
        <identCode Sync="TRUE" code="7607">
				</identCode>
        <idCodeSpace Sync="TRUE">EPSG</idCodeSpace>
        <idVersion Sync="TRUE">8.8(10.4.0)</idVersion>
      </refSysID>
    </RefSystem>
  </refSysInfo>
  <contInfo>
    <ImgDesc>
      <contentTyp>
        <ContentTypCd Sync="TRUE" value="001">
				</ContentTypCd>
      </contentTyp>
      <covDim>
        <Band>
          <dimDescrp Sync="TRUE">Band_1</dimDescrp>
          <maxVal Sync="TRUE">1249.840332</maxVal>
          <minVal Sync="TRUE">598.753967</minVal>
          <bitsPerVal Sync="TRUE">32</bitsPerVal>
          <valUnit>
            <UOM type="length">
						</UOM>
          </valUnit>
        </Band>
      </covDim>
    </ImgDesc>
  </contInfo>
</metadata>
