{
 "currentVersion": 11.5,
 "serviceDescription": "The Grant County lidar project area covers approximately 1250 square miles which includes a 100 meter buffer around the county boundary. The lidar data was acquired at a nominal point spacing (NPS) of 0.7 meters and a aggregate nominal point density (ANPD) of 2.0. Project specifications are based on Grant County requirements and on the U.S. Geological Survey National Geospatial Program LiDAR Base Specification, Version 2.1. The data was developed based on a horizontal projection/datum of NAD83(2011) / WISCRS Grant (ftUS) (EPSG Code: 7607), and vertical datum of NAVD88 - Geoid12B (Feet). LiDAR data was acquired using two Riegl VQ 1560 sensors with serial numbers SN754 and SN1264 from April 19, 2020 to April 30, 2020 in 5 total lifts. Acquisition occurred with leaves absent from deciduous trees, when no snow was present on the ground, and with rivers at or below normal levels.",
 "serviceItemId": "af8c4f02378b4ca0b82dba4a8ec71da0",
 "name": "RasterImagery/2020_LiDAR_DEM",
 "description": "The Grant County lidar project area covers approximately 1250 square miles which includes a 100 meter buffer around the county boundary. The lidar data was acquired at a nominal point spacing (NPS) of 0.7 meters and a aggregate nominal point density (ANPD) of 2.0. Project specifications are based on Grant County requirements and on the U.S. Geological Survey National Geospatial Program LiDAR Base Specification, Version 2.1. The data was developed based on a horizontal projection/datum of NAD83(2011) / WISCRS Grant (ftUS) (EPSG Code: 7607), and vertical datum of NAVD88 - Geoid12B (Feet). LiDAR data was acquired using two Riegl VQ 1560 sensors with serial numbers SN754 and SN1264 from April 19, 2020 to April 30, 2020 in 5 total lifts. Acquisition occurred with leaves absent from deciduous trees, when no snow was present on the ground, and with rivers at or below normal levels.",
 "extent": {
  "xmin": 696662,
  "ymin": 396128,
  "xmax": 899366,
  "ymax": 657152,
  "spatialReference": {
   "wkid": 7607,
   "latestWkid": 7607,
   "vcsWkid": 105703,
   "latestVcsWkid": 6360
  }
 },
 "initialExtent": {
  "xmin": 696662,
  "ymin": 396128,
  "xmax": 899366,
  "ymax": 657152,
  "spatialReference": {
   "wkid": 7607,
   "latestWkid": 7607,
   "vcsWkid": 105703,
   "latestVcsWkid": 6360
  }
 },
 "fullExtent": {
  "xmin": 696662,
  "ymin": 396128,
  "xmax": 899366,
  "ymax": 657152,
  "spatialReference": {
   "wkid": 7607,
   "latestWkid": 7607,
   "vcsWkid": 105703,
   "latestVcsWkid": 6360
  }
 },
 "sortableFields": "",
 "heightModelInfo": {
  "heightModel": "gravity_related_height",
  "vertCRS": "NAVD88_height_(ftUS)",
  "heightUnit": "us-foot"
 },
 "bandCount": 1,
 "pixelType": "F32",
 "minValues": [
  598.75396728516
 ],
 "maxValues": [
  1249.8403320313
 ],
 "meanValues": [
  930.00509262258
 ],
 "stdvValues": [
  146.6822088984
 ],
 "serviceProperties": "Center<\/MosaicMethod>First<\/MosaicOperator>true<\/SortAscending><\/LockImageID><\/TileOrderField>0<\/TileOrderBase>0.000000<\/AvgImageSpacingX>0.000000<\/AvgImageSpacingY>0.0<\/ViewPointX>0.0<\/ViewPointY>0.0<\/ViewPointDefShiftX>0.0<\/ViewPointDefShiftY>None<\/CompressionMethod>75<\/CompressionQuality>0.010000<\/CompressionTolerance>Bilinear<\/SamplingMethod><\/ImageServiceProperties><\/ImageServer>",
 "allowedFields": "",
 "hasMultidimensions": false,
 "pixelSizeX": 2,
 "pixelSizeY": 2,
 "meanPixelSize": 0.6096012192024385,
 "datasetFormat": "TIFF",
 "uncompressedSize": 52910608896,
 "blockWidth": 101352,
 "blockHeight": 1,
 "compressionType": "None",
 "bandNames": [
  "Band_1"
 ],
 "allowCopy": true,
 "allowAnalysis": true,
 "itemAccess": false,
 "inspectionCapabilities": "",
 "noDataValue": -32767,
 "noDataValues": [
  -32767
 ],
 "minPixelSize": 0,
 "maxPixelSize": 0,
 "copyrightText": "",
 "serviceDataType": "esriImageServiceDataTypeGeneric",
 "serviceSourceType": "esriImageServiceSourceTypeDataset",
 "objectIdField": "",
 "fields": [],
 "capabilities": "Image,Metadata,Mensuration",
 "defaultMosaicMethod": "Center",
 "allowedMosaicMethods": "",
 "sortField": "",
 "sortValue": null,
 "sortAscending": true,
 "mosaicOperator": "First",
 "defaultCompressionQuality": 75,
 "defaultResamplingMethod": "Bilinear",
 "maxImageHeight": 4100,
 "maxImageWidth": 15000,
 "allowRasterFunction": true,
 "rasterFunctionInfos": [
  {
   "name": "None",
   "description": "",
   "help": ""
  }
 ],
 "rasterTypeInfos": [
  {
   "name": "Raster Dataset",
   "description": "Supports all ArcGIS Raster Datasets",
   "help": ""
  }
 ],
 "mensurationCapabilities": "Basic",
 "hasHistograms": true,
 "hasColormap": false,
 "hasRasterAttributeTable": false,
 "minScale": 0,
 "maxScale": 0,
 "exportTilesAllowed": false,
 "supportsStatistics": false,
 "supportsAdvancedQueries": false,
 "editFieldsInfo": null,
 "ownershipBasedAccessControlForRasters": null,
 "allowComputeTiePoints": false,
 "useStandardizedQueries": true,
 "advancedQueryCapabilities": {
  "useStandardizedQueries": true,
  "supportsStatistics": false,
  "supportsOrderBy": false,
  "supportsDistinct": false,
  "supportsPagination": false
 },
 "spatialReference": {
  "wkid": 7607,
  "latestWkid": 7607,
  "vcsWkid": 105703,
  "latestVcsWkid": 6360
 }
}
