View In:
ArcGIS JavaScript
ArcGIS Online Map Viewer
ArcGIS Earth
Service Description: Ayres Associates provided Grant County, Wisconsin, with digital color orthoimagery services in 2015 as part of WROC. The aerial imagery was collected on April 11, 2015, using a Leica Geosystem ADS100 sensor mounted in a fixed-wing aircraft. Aerial imagery was collected to support 1.0 foot ground sample distance (GSD) orthoimagery to meet ASPRS Class II horizontal accuracy specifications at 1” = 200’ map scale. The horizontal accuracy meets or exceeds 4.0 feet RMSE using the National Standard for Spatial Data Accuracy (NSSDA) standards. Resultant orthoimagery was rectified to the new DEM from existing LiDAR created as part of the CDBG funded WROC program. Orthoimagery was delivered in PLSS section GeoTiff and MrSID tiles and a project wide MrSID mosaic. The orthoimagery was delivered according to a four section tile schematic. The total project area is 1180 square miles, plus a 500-ft buffer around the county boundary. Geographic Description: Grant County is located in southwestern Wisconsin in the Western Uplands area of the state. The county's northern and western boundaries are formed by the Wisconsin and Mississippi rivers, respectively. Urban areas include the cities of Platteville and Lancaster, though the county is primarily made up of agricultural land and forests. Supplemental Information: The Wisconsin Regional Orthophotography Consortium (WROC) is a multi-entity group led by regional planning commissions (RPCs) and WROC representatives from Ayres Associates. The goal of the consortium is to build and sustain a multi-participant program to acquire digital orthoimagery and elevation data throughout Wisconsin. Orthoimagery was collected for Grant County in 2015 to provide consistent deliverable products and accuracy standards for each of the participating entities.
Name: 2015_Aerial_Grant_County
Description: Ayres Associates provided Grant County, Wisconsin, with digital color orthoimagery services in 2015 as part of WROC. The aerial imagery was collected on April 11, 2015, using a Leica Geosystem ADS100 sensor mounted in a fixed-wing aircraft. Aerial imagery was collected to support 1.0 foot ground sample distance (GSD) orthoimagery to meet ASPRS Class II horizontal accuracy specifications at 1” = 200’ map scale. The horizontal accuracy meets or exceeds 4.0 feet RMSE using the National Standard for Spatial Data Accuracy (NSSDA) standards. Resultant orthoimagery was rectified to the new DEM from existing LiDAR created as part of the CDBG funded WROC program. Orthoimagery was delivered in PLSS section GeoTiff and MrSID tiles and a project wide MrSID mosaic. The orthoimagery was delivered according to a four section tile schematic. The total project area is 1180 square miles, plus a 500-ft buffer around the county boundary. Geographic Description: Grant County is located in southwestern Wisconsin in the Western Uplands area of the state. The county's northern and western boundaries are formed by the Wisconsin and Mississippi rivers, respectively. Urban areas include the cities of Platteville and Lancaster, though the county is primarily made up of agricultural land and forests. Supplemental Information: The Wisconsin Regional Orthophotography Consortium (WROC) is a multi-entity group led by regional planning commissions (RPCs) and WROC representatives from Ayres Associates. The goal of the consortium is to build and sustain a multi-participant program to acquire digital orthoimagery and elevation data throughout Wisconsin. Orthoimagery was collected for Grant County in 2015 to provide consistent deliverable products and accuracy standards for each of the participating entities.
Single Fused Map Cache: false
Extent:
XMin: 698935.738
YMin: 399080.98400000005
XMax: 896479.738
YMax: 656912.984
Spatial Reference: 103421
(8172)
LatestVCSWkid(0)
Initial Extent:
XMin: 698935.738
YMin: 399080.98400000005
XMax: 896479.738
YMax: 656912.984
Spatial Reference: 103421
(8172)
LatestVCSWkid(0)
Full Extent:
XMin: 698935.738
YMin: 399080.98400000005
XMax: 896479.738
YMax: 656912.984
Spatial Reference: 103421
(8172)
LatestVCSWkid(0)
Pixel Size X: 1.0
Pixel Size Y: 1.0
Band Count: 5
Pixel Type: U8
RasterFunction Infos: {"rasterFunctionInfos": [{
"name": "None",
"description": "",
"help": ""
}]}
Mensuration Capabilities: Basic
Inspection Capabilities:
Has Histograms: true
Has Colormap: false
Has Multi Dimensions : false
Rendering Rule:
Min Scale: 0
Max Scale: 0
Copyright Text:
Service Data Type: esriImageServiceDataTypeGeneric
Min Values: 0, 0, 0, 0, 0
Max Values: 175, 165, 147, 185, 255
Mean Values: 77.791383219955, 75.746679624231, 64.560090702948, 92.177194687399, 169.77874959508
Standard Deviation Values: 56.656740829633, 54.82513328044, 46.45040339021, 67.610740302452, 118.40521350715
Object ID Field:
Fields:
None
Default Mosaic Method: Center
Allowed Mosaic Methods:
SortField:
SortValue: null
Mosaic Operator: First
Default Compression Quality: 75
Default Resampling Method: Bilinear
Max Record Count: null
Max Image Height: 4100
Max Image Width: 15000
Max Download Image Count: null
Max Mosaic Image Count: null
Allow Raster Function: true
Allow Copy: true
Allow Analysis: true
Allow Compute TiePoints: false
Supports Statistics: false
Supports Advanced Queries: false
Use StandardizedQueries: true
Raster Type Infos:
Name: Raster Dataset
Description: Supports all ArcGIS Raster Datasets
Help:
Has Raster Attribute Table: false
Edit Fields Info: null
Ownership Based AccessControl For Rasters: null
Child Resources:
Info
Histograms
Statistics
Key Properties
Legend
Raster Function Infos
Supported Operations:
Export Image
Identify
Measure
Compute Histograms
Compute Statistics Histograms
Get Samples
Compute Class Statistics
Query Boundary
Compute Pixel Location
Compute Angles
Validate
Project