View In:
ArcGIS JavaScript
ArcGIS Online Map Viewer
ArcGIS Earth
Service Description: The Grant County lidar project area covers approximately 1250 square miles which includes a 100 meter buffer around the county boundary. The lidar data was acquired at a nominal point spacing (NPS) of 0.7 meters and a aggregate nominal point density (ANPD) of 2.0. Project specifications are based on Grant County requirements and on the U.S. Geological Survey National Geospatial Program LiDAR Base Specification, Version 2.1. The data was developed based on a horizontal projection/datum of NAD83(2011) / WISCRS Grant (ftUS) (EPSG Code: 7607), and vertical datum of NAVD88 - Geoid12B (Feet). LiDAR data was acquired using two Riegl VQ 1560 sensors with serial numbers SN754 and SN1264 from April 19, 2020 to April 30, 2020 in 5 total lifts. Acquisition occurred with leaves absent from deciduous trees, when no snow was present on the ground, and with rivers at or below normal levels.
Name: RasterImagery/2020_LiDAR_DEM
Description: The Grant County lidar project area covers approximately 1250 square miles which includes a 100 meter buffer around the county boundary. The lidar data was acquired at a nominal point spacing (NPS) of 0.7 meters and a aggregate nominal point density (ANPD) of 2.0. Project specifications are based on Grant County requirements and on the U.S. Geological Survey National Geospatial Program LiDAR Base Specification, Version 2.1. The data was developed based on a horizontal projection/datum of NAD83(2011) / WISCRS Grant (ftUS) (EPSG Code: 7607), and vertical datum of NAVD88 - Geoid12B (Feet). LiDAR data was acquired using two Riegl VQ 1560 sensors with serial numbers SN754 and SN1264 from April 19, 2020 to April 30, 2020 in 5 total lifts. Acquisition occurred with leaves absent from deciduous trees, when no snow was present on the ground, and with rivers at or below normal levels.
Single Fused Map Cache: false
Extent:
XMin: 696662.0
YMin: 396128.0
XMax: 899366.0
YMax: 657152.0
Spatial Reference: 7607
(7607)
VCSWkid(105703)
LatestVCSWkid(6360)
Initial Extent:
XMin: 696662.0
YMin: 396128.0
XMax: 899366.0
YMax: 657152.0
Spatial Reference: 7607
(7607)
VCSWkid(105703)
LatestVCSWkid(6360)
Full Extent:
XMin: 696662.0
YMin: 396128.0
XMax: 899366.0
YMax: 657152.0
Spatial Reference: 7607
(7607)
VCSWkid(105703)
LatestVCSWkid(6360)
Pixel Size X: 2.0
Pixel Size Y: 2.0
Band Count: 1
Pixel Type: F32
RasterFunction Infos: {"rasterFunctionInfos": [{
"name": "None",
"description": "",
"help": ""
}]}
Mensuration Capabilities: Basic
Inspection Capabilities:
Has Histograms: true
Has Colormap: false
Has Multi Dimensions : false
Rendering Rule:
Min Scale: 0
Max Scale: 0
Copyright Text:
Service Data Type: esriImageServiceDataTypeGeneric
Min Values: 598.75396728516
Max Values: 1249.8403320313
Mean Values: 930.00509262258
Standard Deviation Values: 146.6822088984
Object ID Field:
Fields:
None
Default Mosaic Method: Center
Allowed Mosaic Methods:
SortField:
SortValue: null
Mosaic Operator: First
Default Compression Quality: 75
Default Resampling Method: Bilinear
Max Record Count: null
Max Image Height: 4100
Max Image Width: 15000
Max Download Image Count: null
Max Mosaic Image Count: null
Allow Raster Function: true
Allow Copy: true
Allow Analysis: true
Allow Compute TiePoints: false
Supports Statistics: false
Supports Advanced Queries: false
Use StandardizedQueries: true
Raster Type Infos:
Name: Raster Dataset
Description: Supports all ArcGIS Raster Datasets
Help:
Has Raster Attribute Table: false
Edit Fields Info: null
Ownership Based AccessControl For Rasters: null
Child Resources:
Info
Histograms
Statistics
Key Properties
Legend
Raster Function Infos
Supported Operations:
Export Image
Identify
Measure
Compute Histograms
Compute Statistics Histograms
Get Samples
Compute Class Statistics
Query Boundary
Compute Pixel Location
Compute Angles
Validate
Project